BEGIN:VCALENDAR
VERSION:2.0
PRODID:-//Finnosee - ECPv6.15.20//NONSGML v1.0//EN
CALSCALE:GREGORIAN
METHOD:PUBLISH
X-ORIGINAL-URL:https://www.finnosee.eu
X-WR-CALDESC:Events for Finnosee
REFRESH-INTERVAL;VALUE=DURATION:PT1H
X-Robots-Tag:noindex
X-PUBLISHED-TTL:PT1H
BEGIN:VTIMEZONE
TZID:Europe/Zagreb
BEGIN:DAYLIGHT
TZOFFSETFROM:+0100
TZOFFSETTO:+0200
TZNAME:CEST
DTSTART:20250330T010000
END:DAYLIGHT
BEGIN:STANDARD
TZOFFSETFROM:+0200
TZOFFSETTO:+0100
TZNAME:CET
DTSTART:20251026T010000
END:STANDARD
BEGIN:DAYLIGHT
TZOFFSETFROM:+0100
TZOFFSETTO:+0200
TZNAME:CEST
DTSTART:20260329T010000
END:DAYLIGHT
BEGIN:STANDARD
TZOFFSETFROM:+0200
TZOFFSETTO:+0100
TZNAME:CET
DTSTART:20261025T010000
END:STANDARD
BEGIN:DAYLIGHT
TZOFFSETFROM:+0100
TZOFFSETTO:+0200
TZNAME:CEST
DTSTART:20270328T010000
END:DAYLIGHT
BEGIN:STANDARD
TZOFFSETFROM:+0200
TZOFFSETTO:+0100
TZNAME:CET
DTSTART:20271031T010000
END:STANDARD
END:VTIMEZONE
BEGIN:VEVENT
DTSTART;TZID=Europe/Zagreb:20260513T120000
DTEND;TZID=Europe/Zagreb:20260513T170000
DTSTAMP:20260423T165607
CREATED:20260415T102252Z
LAST-MODIFIED:20260415T102252Z
UID:2403-1778673600-1778691600@www.finnosee.eu
SUMMARY:SEE Automotive – Connect&Supply: B2B Meetings as a Key Instrument for Strengthening Collaboration in the Automotive Industry
DESCRIPTION:The SEE Automotive – Connect&Supply conference represents one of the most significant regional events in the field of the automotive and mobility industry\, organized by the AC Serbia cluster. \nA key segment of the conference is the organization of B2B meetings\, which will take place on May 13\, with the support of the Enterprise Europe Network Serbia. These meetings are designed as a structured and efficient tool for connecting companies\, enabling participants to identify potential partners\, exchange relevant experience\, and initiate new forms of cooperation through pre-arranged meetings. \nThe B2B format contributes to strengthening companies’ positions within international supply chains\, fostering knowledge and technology transfer\, and supporting the development of joint projects at both regional and European levels. At the same time\, it serves as an important mechanism for supporting the internationalization of business activities. \nThe effectiveness of this concept was confirmed during last year’s conference\, when around 250 B2B meetings were held\, resulting in numerous new business contacts and concrete cooperation initiatives. \nCompanies are invited to register and take advantage of this opportunity for targeted networking with relevant partners from the country\, the region\, and across Europe\, and to further enhance their business development. \nHome | SEE Automotive Conference Connect & Supply 2026
URL:https://www.finnosee.eu/event/see-automotive-connectsupply-b2b-meetings-as-a-key-instrument-for-strengthening-collaboration-in-the-automotive-industry/
LOCATION:Crown Plaza Belgrade\, Serbia
END:VEVENT
END:VCALENDAR