BEGIN:VCALENDAR
VERSION:2.0
PRODID:-//Finnosee - ECPv6.15.20//NONSGML v1.0//EN
CALSCALE:GREGORIAN
METHOD:PUBLISH
X-ORIGINAL-URL:https://www.finnosee.eu
X-WR-CALDESC:Events for Finnosee
REFRESH-INTERVAL;VALUE=DURATION:PT1H
X-Robots-Tag:noindex
X-PUBLISHED-TTL:PT1H
BEGIN:VTIMEZONE
TZID:Europe/Zagreb
BEGIN:DAYLIGHT
TZOFFSETFROM:+0100
TZOFFSETTO:+0200
TZNAME:CEST
DTSTART:20250330T010000
END:DAYLIGHT
BEGIN:STANDARD
TZOFFSETFROM:+0200
TZOFFSETTO:+0100
TZNAME:CET
DTSTART:20251026T010000
END:STANDARD
BEGIN:DAYLIGHT
TZOFFSETFROM:+0100
TZOFFSETTO:+0200
TZNAME:CEST
DTSTART:20260329T010000
END:DAYLIGHT
BEGIN:STANDARD
TZOFFSETFROM:+0200
TZOFFSETTO:+0100
TZNAME:CET
DTSTART:20261025T010000
END:STANDARD
BEGIN:DAYLIGHT
TZOFFSETFROM:+0100
TZOFFSETTO:+0200
TZNAME:CEST
DTSTART:20270328T010000
END:DAYLIGHT
BEGIN:STANDARD
TZOFFSETFROM:+0200
TZOFFSETTO:+0100
TZNAME:CET
DTSTART:20271031T010000
END:STANDARD
END:VTIMEZONE
BEGIN:VEVENT
DTSTART;TZID=Europe/Zagreb:20260317T170000
DTEND;TZID=Europe/Zagreb:20260319T130000
DTSTAMP:20260423T165601
CREATED:20260205T074958Z
LAST-MODIFIED:20260212T083910Z
UID:2284-1773766800-1773925200@www.finnosee.eu
SUMMARY:FINNO 2026 – EEN Access to Finance Forum
DESCRIPTION:FINNO 2026 – EEN Access to Finance Forum\n\nWe are pleased to bring together EEN partners\, SMEs\, investors\, financial institutions and innovation stakeholders from the Western Balkans and the EU for three days of focused discussions\, expert insights and high-quality networking at FINNO 2026. \nThis year’s forum will feature keynote speakers\, panel discussions and practical sessions addressing access to finance for SMEs\, including European and international financing instruments\, venture capital\, business angels\, investment readiness and financing innovation and digitalisation. \nWhether you are looking to secure financing\, connect with investors\, understand funding instruments\, or build cross-border partnerships\, FINNO 2026 provides a practical and results-oriented platform. \nJoin us to explore concrete financing opportunities\, engage in targeted B2B and B2F meetings\, and exchange experiences with peers and experts from across the region. \nRegister now and be part of FINNO 2026 – EEN Access to Finance Forum. \n\n\n\n\n\n\n\nKey Topics\n\nKey Topics addressed: \n\n\nAccess to finance for SMEs in the Western Balkans \n\n\nEuropean and international financing instruments (EU\, IFIs\, development banks) \n\n\nVenture capital\, business angels and alternative finance \n\n\nInvestment readiness and bankable project development \n\n\nFinancing digitalisation\, innovation and Industry 4.0 solutions \n\n\nBridging policy\, finance and SME needs through trusted intermediaries \n\n\nCross-border cooperation and regional investment opportunitiesSee you at FINNO 2026 Regional Conference! \n\n\n\n\n\n\n\n\n\nHow do participants benefit from attending FINNO 2026 – EEN Access to Finance Forum?\n\nNetworking opportunities: The event provides a great opportunity to meet and connect with like-minded individuals\, as well as experts in your field. You can make valuable connections that can help you grow your career or business. \nKnowledge sharing: The event features expert speakers who share their insights and knowledge on a particular topic. This can provide attendees with new ideas\, perspectives\, and strategies that they can apply to their work or personal life. \nInspiration: Attending the event can be inspiring\, providing participants with new ideas and motivation to achieve their goals. \nStay up-to-date with industry trends: The event showcases the latest products\, services\, innovations and trends in a particular industry or field. By attending it\, participants can stay informed about what’s new and what’s on the horizon. \nBuild brand awareness: If you’re a business owner or entrepreneur\, attending the event can be a great way to build brand awareness and connect with potential customers or clients. \nCareer development: The event also provides opportunities for career development\, such as meeting with recruiters\, or participating in mentoring sessions. \nAccess to experts and thought leaders: The event features expert speakers and thought leaders who are at the forefront of their field. By attending it\, participants can gain access to these individuals and learn from their experiences and insights. \nExplore new products and services: The event showcases new products and services that are relevant to the industry or field. By attending it\, participants can learn about these products and services\, as well as compare and evaluate them. \nCollaborate with others: The event is a great opportunity to collaborate with others in your field or industry. Participants can meet potential partners\, collaborators\, or even competitors and share ideas and insights. \nHave fun: Lastly\, the event will be a lot of fun! It offers a chance to get out of the office or home\, socialize with others\, and enjoy new experiences. Attending it can be a great way to break up the routine and do something different and exciting. \nREGISTER\n\nAGENDA\nTuesday\, 17 March 2026\n\n\n17:00–18:00 – Warm-up EEN Panel (Open Session): What Is Missing in the Regional Access to Finance Ecosystem? \n\n\n19:00–20:00 – EEN Coordinators Meeting (Closed Session) \n\n\n\nWednesday\, 18 March 2026\n\n\n09:00–10:00 – Registration & Networking Coffee \n\n\n10:00–10:20 – Opening Remarks \n\n\nWelcome address \n\n\nObjectives of FINNO 2026 \n\n\n“Why Access to Finance\, why now\, why regional” \n\n\n\n\n10:20–11:05 – Keynote Address \n\n\n11:05–12:15 – Panel 1: Access to Finance – Instruments Available for SMEs Today \n\n\n12:15–12:35 – Coffee Break & B2B / B2F Meetings \n\n\nIndividual 15-minute B2B slots also running during this time \n\n\n\n\n12:35–13:45 – Panel 2: Innovation & Growth Finance – From Idea to Scale \n\n\n13:35–15:00 – Networking Lunch \n\n\n15:00–16:30 – Workshop A: Horizon Europe & Innovation Funding \n\n\n15:00–18:00 – B2B & B2F Meetings (Parallel) \n\n\n16:30–18:00 – Workshop B: Investment Readiness for SMEs \n\n\n\nThursday\, 19 March 2026\n\n\n09:00–10:00 – Final Roundtable: EEN as a Gateway to European Financial Institutions \n\n\n10:00–11:30 – From Use Case to Implementation: Digital Solutions for Industry – Access to Finance Perspective \n\n\n11:30–12:00 – Closing Remarks \n\n\nREGISTER NOW
URL:https://www.finnosee.eu/event/finno-2026-een-access-to-finance-forum/
LOCATION:JAHORINA\, Hotel Vucko\, Olimpijska 1\, Jahorina\, Bosnia and Herzegovina
CATEGORIES:B2B Event,Matchmaking Event
ATTACH;FMTTYPE=image/jpeg:https://www.finnosee.eu/wp-content/uploads/2026/02/B2Match_1472-x-776px.jpg
END:VEVENT
BEGIN:VEVENT
DTSTART;TZID=Europe/Zagreb:20260326T160000
DTEND;TZID=Europe/Zagreb:20260326T180000
DTSTAMP:20260423T165601
CREATED:20260324T071922Z
LAST-MODIFIED:20260324T072047Z
UID:2372-1774540800-1774548000@www.finnosee.eu
SUMMARY:Tech & innovation opportunities in Ukraine: market insights and funding pathways
DESCRIPTION:Embracing Global Markets Webinar Series\n\nWebinar | 26 MARCH 2026 16:00-17:00 CET \nThe webinar series ‘Embracing global markets’ supports European small and medium sized enterprises and start-ups to innovate and expand in Asia\, Africa and the Americas. The webinars are hosted by experts of various European Commission services and the ‘Enterprise Europe Network’\, the world’s largest business service provider. \n\n\n\n\nWho should attend? \nThe webinar aims at European small and medium-sized enterprises (SMEs)\, start-ups (ready to scale internationally)\, beneficiaries or holders of seals of excellence of the European Innovation Council\, European clusters and cluster managers\, business advisers of the Enterprise Europe Network and other European business support organisations\, including all stakeholders of the ‘Friends of EEN’ initiative. \nObjectives \nJoin us for a focused and practical webinar exploring technology and innovation opportunities in Ukraine. \nThe session will provide an up-to-date overview of Ukraine’s economic and startup landscape\, including regulatory developments\, the Diia City framework and emerging dual-use technologies\, alongside insights into key technology needs expressed by Ukrainian companies. \nParticipants will also gain clarity on EU financial instruments\, risk-sharing mechanisms and access pathways available to support SME and mid-cap engagement. \nThrough short testimonials from companies active in sectors such as energy solutions\, medtech\, rehabilitation technologies and defence-related innovation\, the webinar will offer concrete market entry experiences\, partnership models and cooperation opportunities. \nAn interactive Q&A will allow participants to address practical questions on financing\, regulation and sector-specific prospects. \nMore information: https://een.ec.europa.eu/webinars/webinar-series-embracing-global-markets/tech-innovation-opportunities-ukraine-market \n \n\n\nStream the webinar live or join the session via Webex to interact with our experts! \nOur webinars are recorded and disseminated via our social media channels. If you don’t want to be visible\, deactivate your camera and microphone. For more information read our detailed data protection notice. \n\n\nTake part in the webinar through Webex
URL:https://www.finnosee.eu/event/tech-innovation-opportunities-in-ukraine-market-insights-and-funding-pathways/
LOCATION:Webex
CATEGORIES:Online Webinar
ATTACH;FMTTYPE=image/png:https://www.finnosee.eu/wp-content/uploads/2026/03/Posnetek-zaslona-2026-03-24-082022.png
END:VEVENT
END:VCALENDAR