BEGIN:VCALENDAR
VERSION:2.0
PRODID:-//Finnosee - ECPv6.15.20//NONSGML v1.0//EN
CALSCALE:GREGORIAN
METHOD:PUBLISH
X-WR-CALNAME:Finnosee
X-ORIGINAL-URL:https://www.finnosee.eu
X-WR-CALDESC:Events for Finnosee
REFRESH-INTERVAL;VALUE=DURATION:PT1H
X-Robots-Tag:noindex
X-PUBLISHED-TTL:PT1H
BEGIN:VTIMEZONE
TZID:Europe/Zagreb
BEGIN:DAYLIGHT
TZOFFSETFROM:+0100
TZOFFSETTO:+0200
TZNAME:CEST
DTSTART:20240331T010000
END:DAYLIGHT
BEGIN:STANDARD
TZOFFSETFROM:+0200
TZOFFSETTO:+0100
TZNAME:CET
DTSTART:20241027T010000
END:STANDARD
BEGIN:DAYLIGHT
TZOFFSETFROM:+0100
TZOFFSETTO:+0200
TZNAME:CEST
DTSTART:20250330T010000
END:DAYLIGHT
BEGIN:STANDARD
TZOFFSETFROM:+0200
TZOFFSETTO:+0100
TZNAME:CET
DTSTART:20251026T010000
END:STANDARD
BEGIN:DAYLIGHT
TZOFFSETFROM:+0100
TZOFFSETTO:+0200
TZNAME:CEST
DTSTART:20260329T010000
END:DAYLIGHT
BEGIN:STANDARD
TZOFFSETFROM:+0200
TZOFFSETTO:+0100
TZNAME:CET
DTSTART:20261025T010000
END:STANDARD
END:VTIMEZONE
BEGIN:VEVENT
DTSTART;TZID=Europe/Zagreb:20250911T110000
DTEND;TZID=Europe/Zagreb:20250911T123000
DTSTAMP:20260423T131811
CREATED:20250612T115802Z
LAST-MODIFIED:20250612T115941Z
UID:2019-1757588400-1757593800@www.finnosee.eu
SUMMARY:FINNO PITCHING ACADEMIA
DESCRIPTION:Calling all startups/spin-offs and innovative companies in the Western Balkans\, Croatia and Slovenia!  \nAre you ready to take your pitching skills to new heights? \nLook no further than FINNO Pitching Academia – your ultimate online destination for practical pitching expertise. \n📅 Date and duration: 11.09.2025. from 11 am till 12.30 pm \n👉 Registration link: https://us06web.zoom.us/meeting/register/FPDuUactQKKRTXMmAh_V7A \n  \nWhy to apply? \n\nA 120-minute webinar: “Excel with Your Pitch Deck – Preparation for pre-seed/seed investments”\nPersonalized one-on-one sessions with EEN advisors for tailored advice\nMentorship sessions to define/refine your pitch deck and presentation skills\nLive pitch practice with real-time feedback from industry experts\nPost-academia support to ensure your success continues beyond the program\n\n  \nOur Goal: \nAt FINNO Pitching Academia\, our mission is simple: to equip regional startups with the tools and know-how to ace their pitch decks and captivate investors.  \nWhether you’re gearing up for a pre-seed or seed round\, our program is tailored to help you: \n\nCraft a winning pitch deck that stands out\nReceive invaluable feedback from seasoned mentors\nEnhance your presentation skills to leave a lasting impression\nMaster the art of answering tough investor questions with confidence\n\n  \nWhat sets FINNO Pitching Academia apart?  \nIt’s our unparalleled access to the Enterprise Europe Network (EEN) – the largest support network for innovative SMEs. Backed by over 70 experienced EEN advisors with a proven track record\, we’ve helped millions of businesses thrive globally. Now\, our dedicated team is here to guide you through every step of the pitching process\, from deck creation to investor readiness. \n  \nDon’t miss your chance to shine in front of investors and propel your startup to new heights.  \nSign up for FINNO Pitching Academia today and let your pitch stand out in the crowd!  \n 
URL:https://www.finnosee.eu/event/finno-pitching-academia/
CATEGORIES:Online Webinar
ATTACH;FMTTYPE=image/jpeg:https://www.finnosee.eu/wp-content/uploads/2025/06/FINNO-pitching-academia-1.jpg
END:VEVENT
END:VCALENDAR