BEGIN:VCALENDAR
VERSION:2.0
PRODID:-//Finnosee - ECPv6.15.20//NONSGML v1.0//EN
CALSCALE:GREGORIAN
METHOD:PUBLISH
X-WR-CALNAME:Finnosee
X-ORIGINAL-URL:https://www.finnosee.eu
X-WR-CALDESC:Events for Finnosee
REFRESH-INTERVAL;VALUE=DURATION:PT1H
X-Robots-Tag:noindex
X-PUBLISHED-TTL:PT1H
BEGIN:VTIMEZONE
TZID:Europe/Zagreb
BEGIN:DAYLIGHT
TZOFFSETFROM:+0100
TZOFFSETTO:+0200
TZNAME:CEST
DTSTART:20250330T010000
END:DAYLIGHT
BEGIN:STANDARD
TZOFFSETFROM:+0200
TZOFFSETTO:+0100
TZNAME:CET
DTSTART:20251026T010000
END:STANDARD
BEGIN:DAYLIGHT
TZOFFSETFROM:+0100
TZOFFSETTO:+0200
TZNAME:CEST
DTSTART:20260329T010000
END:DAYLIGHT
BEGIN:STANDARD
TZOFFSETFROM:+0200
TZOFFSETTO:+0100
TZNAME:CET
DTSTART:20261025T010000
END:STANDARD
BEGIN:DAYLIGHT
TZOFFSETFROM:+0100
TZOFFSETTO:+0200
TZNAME:CEST
DTSTART:20270328T010000
END:DAYLIGHT
BEGIN:STANDARD
TZOFFSETFROM:+0200
TZOFFSETTO:+0100
TZNAME:CET
DTSTART:20271031T010000
END:STANDARD
END:VTIMEZONE
BEGIN:VEVENT
DTSTART;TZID=Europe/Zagreb:20260422T160000
DTEND;TZID=Europe/Zagreb:20260422T170000
DTSTAMP:20260423T204021
CREATED:20260323T083111Z
LAST-MODIFIED:20260323T083239Z
UID:2360-1776873600-1776877200@www.finnosee.eu
SUMMARY:Webinar | 22 APRIL 2026 16:00-17:00 CEST - Doing Business in the United States: How to pitch for the Silicon Valley
DESCRIPTION:Embracing Global Markets Webinar Series\n\nThe webinar series ‘Embracing global markets’ supports European small and medium-sized enterprises and start-ups to innovate and expand in Asia\, Africa and the Americas. The webinars are hosted by experts of various European Commission services and the ‘Enterprise Europe Network’\, the world’s largest business service provider. \n\nWebinar | 22 APRIL 2026 16:00-17:00 CEST – Doing Business in the United States: How to pitch for the Silicon Valley \nWho should attend? \nThis webinar is best suited for organisations that have an established presence in Europe and are at the very early stages of exploring transatlantic expansion. It is particularly relevant for those looking to design a lean\, – a Minimum Viable Landing – before committing to a full-scale market entry. \nObjectives \nThis webinar offers a fresh\, entrepreneurial perspective on doing business in the United States\, drawing directly on hands-on experience from companies supported by the EIT & 28DIGITAL Hub Silicon Valley. \nParticipants will come away with: \n\na clear understanding of the Silicon Valley mindset and global business culture\npractical guidance on crafting a compelling pitch for the US market\ntips on tailoring your sales deck to the expectations of American customers\nfield-tested lessons on US market entry\, including common pitfalls and key success factors\n\nThe session closes with a live Q&A\, giving participants the opportunity to ask questions and receive candid\, on-the-ground insights. \n\n\n \nStream the webinar live or join the session via Webex to interact with our experts! \nOur webinars are recorded and disseminated via our social media channels. If you don’t want to be visible\, deactivate your camera and microphone. For more information read our detailed data protection notice. \n\n\nTake part in the webinar through Webex
URL:https://www.finnosee.eu/event/webinar-22-april-2026-1600-1700-cest-doing-business-in-the-united-states-how-to-pitch-for-the-silicon-valley/
LOCATION:Webex
CATEGORIES:Online Webinar
ATTACH;FMTTYPE=image/jpeg:https://www.finnosee.eu/wp-content/uploads/2026/03/Screenshot-2026-03-19-143712.jpg
END:VEVENT
BEGIN:VEVENT
DTSTART;TZID=Europe/Zagreb:20260424T140000
DTEND;TZID=Europe/Zagreb:20260424T170000
DTSTAMP:20260423T204021
CREATED:20260309T143257Z
LAST-MODIFIED:20260309T143338Z
UID:2356-1777039200-1777050000@www.finnosee.eu
SUMMARY:B2B Event “Women Entrepreneurs: Be Prepared to Be Resilient”
DESCRIPTION:The Institute Mihajlo Pupin\, in cooperation with partners from the Enterprise Europe Network\, invites companies to participate in the B2B event “Women Entrepreneurs: Be Prepared to Be Resilient.” \nThe event is organised under the auspices of the Enterprise Europe Network (EEN) and its Thematic Groups on Women Entrepreneurship and Resilience & Preparedness. It aims to support women entrepreneurs by creating opportunities for networking\, exchange of experiences\, and the development of new business partnerships. \nThe expected participants are women-led companies\, primarily from the Western Balkan region\, but participation is also open to companies from other countries interested in establishing international cooperation. \nThis multi-sectoral B2B event will bring together companies from various industries\, including: \n\n\nmanufacturing \n\n\ntextiles \n\n\nservices (IT\, consulting\, business consulting and coaching) \n\n\nagrifood \n\n\nhospitality and tourism \n\n\nParticipants will have the opportunity to connect with potential partners\, explore new business opportunities\, and strengthen cooperation within the regional and European entrepreneurial ecosystem. \n📅 Date: 24 April 2026🕑 Time: 14:00 – 17:00📍 Venue: Chamber of Commerce and Industry of Serbia\, Resavska 13–15\, Belgrade \nParticipation is open to all interested companies\, especially those led by women entrepreneurs. \n🔗 Registration:https://forms.gle/xbFMkWNmwL8PvDYHA
URL:https://www.finnosee.eu/event/b2b-event-women-entrepreneurs-be-prepared-to-be-resilient/
LOCATION:Belgrade\, Dorcol Platz\, Serbia
ATTACH;FMTTYPE=image/png:https://www.finnosee.eu/wp-content/uploads/2026/03/24-april-PKS.png
END:VEVENT
BEGIN:VEVENT
DTSTART;TZID=Europe/Zagreb:20260513T120000
DTEND;TZID=Europe/Zagreb:20260513T170000
DTSTAMP:20260423T204021
CREATED:20260415T102252Z
LAST-MODIFIED:20260415T102252Z
UID:2403-1778673600-1778691600@www.finnosee.eu
SUMMARY:SEE Automotive – Connect&Supply: B2B Meetings as a Key Instrument for Strengthening Collaboration in the Automotive Industry
DESCRIPTION:The SEE Automotive – Connect&Supply conference represents one of the most significant regional events in the field of the automotive and mobility industry\, organized by the AC Serbia cluster. \nA key segment of the conference is the organization of B2B meetings\, which will take place on May 13\, with the support of the Enterprise Europe Network Serbia. These meetings are designed as a structured and efficient tool for connecting companies\, enabling participants to identify potential partners\, exchange relevant experience\, and initiate new forms of cooperation through pre-arranged meetings. \nThe B2B format contributes to strengthening companies’ positions within international supply chains\, fostering knowledge and technology transfer\, and supporting the development of joint projects at both regional and European levels. At the same time\, it serves as an important mechanism for supporting the internationalization of business activities. \nThe effectiveness of this concept was confirmed during last year’s conference\, when around 250 B2B meetings were held\, resulting in numerous new business contacts and concrete cooperation initiatives. \nCompanies are invited to register and take advantage of this opportunity for targeted networking with relevant partners from the country\, the region\, and across Europe\, and to further enhance their business development. \nHome | SEE Automotive Conference Connect & Supply 2026
URL:https://www.finnosee.eu/event/see-automotive-connectsupply-b2b-meetings-as-a-key-instrument-for-strengthening-collaboration-in-the-automotive-industry/
LOCATION:Crown Plaza Belgrade\, Serbia
END:VEVENT
BEGIN:VEVENT
DTSTART;TZID=Europe/Zagreb:20260915T130000
DTEND;TZID=Europe/Zagreb:20260915T200000
DTSTAMP:20260423T204021
CREATED:20260309T104036Z
LAST-MODIFIED:20260422T081429Z
UID:2347-1789477200-1789502400@www.finnosee.eu
SUMMARY:Innovation Day 2026
DESCRIPTION:Innovation Day organised by the Chamber of Commerce and Industry of Slovenia is one of the most important national events dedicated to innovation and technological development in Slovenia. \nIt brings together companies\, researchers\, policymakers\, and innovation stakeholders to showcase outstanding Slovenian innovations and highlight the role of innovation in strengthening the competitiveness of the Slovenian economy. The event also features the presentation of national innovation awards and provides a platform for networking\, knowledge exchange\, and promoting collaboration between business and research organisations.
URL:https://www.finnosee.eu/event/innovation-day-2026/
LOCATION:Brdo pri Kranju\, Slovenia
CATEGORIES:Conference
ATTACH;FMTTYPE=image/png:https://www.finnosee.eu/wp-content/uploads/2026/03/Dan-inovativnosti-Podoba.png
END:VEVENT
BEGIN:VEVENT
DTSTART;TZID=Europe/Zagreb:20261007T080000
DTEND;TZID=Europe/Zagreb:20261007T170000
DTSTAMP:20260423T204021
CREATED:20260309T101310Z
LAST-MODIFIED:20260312T124416Z
UID:2341-1791360000-1791392400@www.finnosee.eu
SUMMARY:International Technology Transfer Conference (ITTC)
DESCRIPTION:International Technology Transfer Conference (ITTC) is a yearly event taking place in October in Slovenia. Our aim is to promote knowledge exchange between academia and industry\, in order to strengthen the cooperation and transfer of innovations from research labs into industrial exploitation. Our goal is also further strengthening the knowledge base and experiences of technology transfer professionals at public research organisations. In the past events\, we hosted more than 2600 participants\, including investors\, inventors\, researchers\, commercialization experts\, start-up funders\, industrial development experts etc. Part of the conference are competitions to award the technology with the best business proposition\, which led to successful start-ups and licensing contracts. \nMore info.
URL:https://www.finnosee.eu/event/international-technology-transfer-conference-ittc/
LOCATION:Novo mesto\, Slovenia
CATEGORIES:Conference
ATTACH;FMTTYPE=image/png:https://www.finnosee.eu/wp-content/uploads/2026/03/ITTC15_logo_ENG_RGB_pos.png
END:VEVENT
END:VCALENDAR