BEGIN:VCALENDAR
VERSION:2.0
PRODID:-//Finnosee - ECPv6.15.20//NONSGML v1.0//EN
CALSCALE:GREGORIAN
METHOD:PUBLISH
X-ORIGINAL-URL:https://www.finnosee.eu
X-WR-CALDESC:Events for Finnosee
REFRESH-INTERVAL;VALUE=DURATION:PT1H
X-Robots-Tag:noindex
X-PUBLISHED-TTL:PT1H
BEGIN:VTIMEZONE
TZID:Europe/Zagreb
BEGIN:DAYLIGHT
TZOFFSETFROM:+0100
TZOFFSETTO:+0200
TZNAME:CEST
DTSTART:20240331T010000
END:DAYLIGHT
BEGIN:STANDARD
TZOFFSETFROM:+0200
TZOFFSETTO:+0100
TZNAME:CET
DTSTART:20241027T010000
END:STANDARD
BEGIN:DAYLIGHT
TZOFFSETFROM:+0100
TZOFFSETTO:+0200
TZNAME:CEST
DTSTART:20250330T010000
END:DAYLIGHT
BEGIN:STANDARD
TZOFFSETFROM:+0200
TZOFFSETTO:+0100
TZNAME:CET
DTSTART:20251026T010000
END:STANDARD
BEGIN:DAYLIGHT
TZOFFSETFROM:+0100
TZOFFSETTO:+0200
TZNAME:CEST
DTSTART:20260329T010000
END:DAYLIGHT
BEGIN:STANDARD
TZOFFSETFROM:+0200
TZOFFSETTO:+0100
TZNAME:CET
DTSTART:20261025T010000
END:STANDARD
END:VTIMEZONE
BEGIN:VEVENT
DTSTART;TZID=Europe/Zagreb:20250327T110000
DTEND;TZID=Europe/Zagreb:20250327T140000
DTSTAMP:20260424T103318
CREATED:20250319T141425Z
LAST-MODIFIED:20250320T071724Z
UID:1676-1743073200-1743084000@www.finnosee.eu
SUMMARY:Online Business Forum - FINNO Connect Online
DESCRIPTION:The Chamber of Economy of Montenegro\, in cooperation with the Foreign Trade Chamber of Bosnia and Herzegovina and other FINNO partners\, is organizing the online business forum “FINNO Connect Online” on Thursday\, March 27\, 2025\, at 11:00 AM\, as part of the Enterprise Europe Network (EEN) project. \nThis event presents a unique opportunity for companies to connect\, exchange experiences\, and establish new business partnerships within the EEN and FINNO initiatives. Through business meetings\, participants will have the opportunity to explore regional and European markets. \n\n\n\nWhy participate?\n\nB2B meetings are the most efficient way to identify international partners – select meetings based on your needs. \nThe schedule of meetings you express interest via the platform will be provided no later than one day before the event. \nParticipation in these business meetings is covered by the EEN project and is free of charge for entrepreneurs. \nThe deadline for scheduling online business meetings is March 25\, 2025. \n\n\n\n\nRepresented sectors:\n\n\n\nTourism and Hospitality \n\n\nAgriculture \n\n\nTrade \n\n\nICT \n\n\nMetal Industry \n\n\nJoin us and be part of a the dynamic regional business community that recognizes opportunities for growth and collaboration!
URL:https://www.finnosee.eu/event/online-business-forum-finno-connect-online/
LOCATION:Virtual
CATEGORIES:B2B Event,Online Conference
END:VEVENT
END:VCALENDAR