BEGIN:VCALENDAR
VERSION:2.0
PRODID:-//Finnosee - ECPv6.15.20//NONSGML v1.0//EN
CALSCALE:GREGORIAN
METHOD:PUBLISH
X-WR-CALNAME:Finnosee
X-ORIGINAL-URL:https://www.finnosee.eu
X-WR-CALDESC:Events for Finnosee
REFRESH-INTERVAL;VALUE=DURATION:PT1H
X-Robots-Tag:noindex
X-PUBLISHED-TTL:PT1H
BEGIN:VTIMEZONE
TZID:Europe/Zagreb
BEGIN:DAYLIGHT
TZOFFSETFROM:+0100
TZOFFSETTO:+0200
TZNAME:CEST
DTSTART:20250330T010000
END:DAYLIGHT
BEGIN:STANDARD
TZOFFSETFROM:+0200
TZOFFSETTO:+0100
TZNAME:CET
DTSTART:20251026T010000
END:STANDARD
BEGIN:DAYLIGHT
TZOFFSETFROM:+0100
TZOFFSETTO:+0200
TZNAME:CEST
DTSTART:20260329T010000
END:DAYLIGHT
BEGIN:STANDARD
TZOFFSETFROM:+0200
TZOFFSETTO:+0100
TZNAME:CET
DTSTART:20261025T010000
END:STANDARD
BEGIN:DAYLIGHT
TZOFFSETFROM:+0100
TZOFFSETTO:+0200
TZNAME:CEST
DTSTART:20270328T010000
END:DAYLIGHT
BEGIN:STANDARD
TZOFFSETFROM:+0200
TZOFFSETTO:+0100
TZNAME:CET
DTSTART:20271031T010000
END:STANDARD
END:VTIMEZONE
BEGIN:VEVENT
DTSTART;TZID=Europe/Zagreb:20260417T100000
DTEND;TZID=Europe/Zagreb:20260417T120000
DTSTAMP:20260423T165242
CREATED:20260406T083850Z
LAST-MODIFIED:20260406T083850Z
UID:2393-1776420000-1776427200@www.finnosee.eu
SUMMARY:READY FOR INVESTORS? - Test your Investment Readiness I WORKSHOP
DESCRIPTION:In cooperation with EEN2EIC\, this workshop targets start-ups who are interested in reaching investors and would like to check their investment readiness. \nStart-ups will have a chance to hear\, in the introduction\, about what investors care about\, what founders usually get wrong\, what investors love to see\, and about EEN2EIC Investment Readiness Scorecard (IRS) assessment tool. \nThe main part of the workshop will be conducting an online IRS assessment individually by each start-up with the support of the trainer. There are 39 questions that covers the 6 critical areas that investors analyze during due diligence:  \n\nTeam\, \nProduct and Technology\, \nMarket and Traction\, \nCustomer Development and Validation\, \nBusiness Mode\, and \nFinance. \n\n  \nEach question has four possible answers. Max time for doing the test is 20 min. \nEach start-up will receive their IRS Report on email during the workshop and will not be publicly shown. The IRS Report provides:  \n\nVC-Grade Analysis – Assessment framework based on actual investor due diligence criteria\nActionable Insights – Specific recommendations to improve your investment readiness\nProgress Tracking – Detailed scoring system to measure and track improvements\nStrategic Roadmap – Clear next steps prioritized by impact and feasibility.\n\nThe workshop will be finished with how the EEN can help startups to be ready for investors as well as with PODIM presentation – leading startup and tech event in CEE\, which matches start-ups with investors – inviting start-ups to attend PODIM event 11-13.05.2026. in Maribor\, Slovenia. \n📆 17th of April I Friday  \n🕙 10 am – 12 pm CEST \nRegistration link \nAgenda \nTrainer: Vesna Raskovic Depalov\, EEN Innovation and Scale-up Advisor\, EEN Serbia – BINS \nPODIM: Urban Lapajne\, CPO and Program Manager\, Podim\, Slovenia \n 
URL:https://www.finnosee.eu/event/ready-for-investors-test-your-investment-readiness-i-workshop/
END:VEVENT
END:VCALENDAR