BEGIN:VCALENDAR
VERSION:2.0
PRODID:-//Finnosee - ECPv6.15.20//NONSGML v1.0//EN
CALSCALE:GREGORIAN
METHOD:PUBLISH
X-ORIGINAL-URL:https://www.finnosee.eu
X-WR-CALDESC:Events for Finnosee
REFRESH-INTERVAL;VALUE=DURATION:PT1H
X-Robots-Tag:noindex
X-PUBLISHED-TTL:PT1H
BEGIN:VTIMEZONE
TZID:Europe/Zagreb
BEGIN:DAYLIGHT
TZOFFSETFROM:+0100
TZOFFSETTO:+0200
TZNAME:CEST
DTSTART:20240331T010000
END:DAYLIGHT
BEGIN:STANDARD
TZOFFSETFROM:+0200
TZOFFSETTO:+0100
TZNAME:CET
DTSTART:20241027T010000
END:STANDARD
BEGIN:DAYLIGHT
TZOFFSETFROM:+0100
TZOFFSETTO:+0200
TZNAME:CEST
DTSTART:20250330T010000
END:DAYLIGHT
BEGIN:STANDARD
TZOFFSETFROM:+0200
TZOFFSETTO:+0100
TZNAME:CET
DTSTART:20251026T010000
END:STANDARD
BEGIN:DAYLIGHT
TZOFFSETFROM:+0100
TZOFFSETTO:+0200
TZNAME:CEST
DTSTART:20260329T010000
END:DAYLIGHT
BEGIN:STANDARD
TZOFFSETFROM:+0200
TZOFFSETTO:+0100
TZNAME:CET
DTSTART:20261025T010000
END:STANDARD
END:VTIMEZONE
BEGIN:VEVENT
DTSTART;VALUE=DATE:20251202
DTEND;VALUE=DATE:20251203
DTSTAMP:20260423T204345
CREATED:20251003T101205Z
LAST-MODIFIED:20251003T101205Z
UID:2143-1764633600-1764719999@www.finnosee.eu
SUMMARY:Horizons of Innovations – EU Research Collaboration Forum
DESCRIPTION:The Horizons of Innovations – EU Research Collaboration Forum will take place on 2 December 2025 at the Science and Technology Park Novi Sad. This forum brings together researchers\, innovators\, and professionals from across Europe and the Western Balkans for a full day of keynote presentations\, expert panels\, interactive sessions\, and networking opportunities. \nThe event provides a platform for participants to explore emerging trends\, exchange knowledge\, and establish strategic collaborations that extend beyond the forum. R2R\, B2R\, and B2B meetings can be scheduled exclusively through the online platform. \nWho can participate: \n\n\nResearchers from universities\, institutes\, and R&D centers seeking collaboration and increased visibility \n\n\nStartups and SMEs aiming to scale innovation\, explore research-based solutions\, and build partnerships \n\n\nPublic institutions\, civil society organizations\, and support bodies engaged in science\, innovation\, and knowledge transfer \n\n\nEarly-career professionals and project teams looking for inspiration\, connections\, and access to regional and European innovation networks \n\n\nParticipation is free of charge\, but spaces are limited. Interested parties are encouraged to register early to secure their place. \nFor registration and more information\, please visit https://www.b2match.com/e/horizons-of-innovations/components/58812/info
URL:https://www.finnosee.eu/event/horizons-of-innovations-eu-research-collaboration-forum/
LOCATION:Novi Sad\, Science and Technology Park Novi Sad
END:VEVENT
END:VCALENDAR