BEGIN:VCALENDAR
VERSION:2.0
PRODID:-//Finnosee - ECPv6.15.20//NONSGML v1.0//EN
CALSCALE:GREGORIAN
METHOD:PUBLISH
X-WR-CALNAME:Finnosee
X-ORIGINAL-URL:https://www.finnosee.eu
X-WR-CALDESC:Events for Finnosee
REFRESH-INTERVAL;VALUE=DURATION:PT1H
X-Robots-Tag:noindex
X-PUBLISHED-TTL:PT1H
BEGIN:VTIMEZONE
TZID:Europe/Zagreb
BEGIN:DAYLIGHT
TZOFFSETFROM:+0100
TZOFFSETTO:+0200
TZNAME:CEST
DTSTART:20240331T010000
END:DAYLIGHT
BEGIN:STANDARD
TZOFFSETFROM:+0200
TZOFFSETTO:+0100
TZNAME:CET
DTSTART:20241027T010000
END:STANDARD
BEGIN:DAYLIGHT
TZOFFSETFROM:+0100
TZOFFSETTO:+0200
TZNAME:CEST
DTSTART:20250330T010000
END:DAYLIGHT
BEGIN:STANDARD
TZOFFSETFROM:+0200
TZOFFSETTO:+0100
TZNAME:CET
DTSTART:20251026T010000
END:STANDARD
BEGIN:DAYLIGHT
TZOFFSETFROM:+0100
TZOFFSETTO:+0200
TZNAME:CEST
DTSTART:20260329T010000
END:DAYLIGHT
BEGIN:STANDARD
TZOFFSETFROM:+0200
TZOFFSETTO:+0100
TZNAME:CET
DTSTART:20261025T010000
END:STANDARD
END:VTIMEZONE
BEGIN:VEVENT
DTSTART;TZID=Europe/Zagreb:20251009T090000
DTEND;TZID=Europe/Zagreb:20251009T223000
DTSTAMP:20260423T160126
CREATED:20250930T102142Z
LAST-MODIFIED:20250930T102142Z
UID:2131-1760000400-1760049000@www.finnosee.eu
SUMMARY:German and Spanish Soft-Landing and Funding Opportunities for Start-Ups
DESCRIPTION:Start-ups aiming to expand internationally and explore new markets will have the opportunity to learn more about funding instruments and soft-landing programs in Germany and Spain at the upcoming FINNO I EEN webinar. \nThe event will feature distinguished speakers who will present first-hand insights into available support mechanisms and opportunities for entrepreneurs looking to scale their businesses: \n\n\nFlorian Schnitzler\, NRW.BANK \n\n\nMonika Bosbach\, Office of Economic Development Düsseldorf \n\n\nAlberto Sanz\, ICEX \n\n\nLuz Martinez Musoles\, Cámara Valencia \n\n\n📅 Date: 9 October📌 Format: Online👉 Registration: https://us06web.zoom.us/meeting/register/DNh7a-DQTw2LffESrFDE-A#/registration \nThis webinar is designed to provide start-ups with practical knowledge on how to successfully access German and Spanish ecosystems\, benefit from local funding opportunities\, and establish a strong foundation for future growth.
URL:https://www.finnosee.eu/event/german-and-spanish-soft-landing-and-funding-opportunities-for-start-ups/
END:VEVENT
END:VCALENDAR